Workbook

Sheet Leyenda
A1: PROGRAMA OPERATIVO | B1: PROGRAMA | C1: OBSERVACIONES
A2: Observaciones Generales | C2: · Cumplimentar únicamente celdas en amarillo. · IMPORTANTE: Introducir la CCAA en pestaña "Resumen" para que se reflejen los importes asociados a las formaciones
A3: EFESO | B3: Tutor FP | C3: Reflejar número de personas a formar según nivel. La Información reflejada en este excel deberá traspasarse al Anexo I Coste/Hora por alumno formado según Reglamento Delegado (UE) 2023/1676 para Trabajadores Cuenta Ajena (Rellenar CCAA en pestaña RESUMEN)
B4: FP PYME | C4: Dedicación efectiva del técnico con coste/hora fijo: 38,46 € * nº de horas dedicadas, hasta un máximo de 1720 horas
B5: Orientación Profesional | C5: Dedicación efectiva del técnico con coste/hora fijo: 38,46 € * nº de horas dedicadas, hasta un máximo de 400 horas

Sheet RESUMEN
A1: 2ª MI FP Anualidad 2026 | C1: Introducir CCAA --->
A2: Programa FSE+ | B2: Programa | C2: Coste Total | D2: Ayuda FSE (69,64%) | E2: CCT (30,36%)
A3: EFESO | B3: Tutor FP | C3: =Tutor_FP!B4 -> 0 | D3: =Tutor_FP!C4 -> 0 | E3: =Tutor_FP!D4 -> 0
B4: FP PYME | C4: ='FP Pyme'!B3 -> 0 | D4: ='FP Pyme'!C3 -> 0 | E4: ='FP Pyme'!D3 -> 0
B5: Orientación Profesional | C5: =Orientación_Profesional!B4 -> 0 | D5: =Orientación_Profesional!C4 -> 0 | E5: =Orientación_Profesional!D4 -> 0
A6: Total 2ª MI EFESO 2026 | C6: =SUM(C3:C5) -> 0 | D6: =SUM(D3:D5) -> 0 | E6: =SUM(E3:E5) -> 0

Sheet Hoja1
A1: Andalucía | B1: 2496.9 | C1: =B1/$B$19 -> 0.87 | D1: =ROUNDDOWN(C1*$D$19,2) -> 16.51 | I1: CCAA | J1: T arifa horaria por la formación de trabajadores por cuenta ajena
A2: Aragón | B2: 2812.6 | C2: =B2/$B$19 -> 0.98 | D2: =ROUNDDOWN(C2*$D$19,2) -> 18.6 | I2: Andalucía | J2: 16.51
A3: Asturias | B3: 2812.6 | C3: =B3/$B$19 -> 0.98 | D3: =ROUNDDOWN(C3*$D$19,2) -> 18.6 | I3: Aragón | J3: 18.6
A4: Canarias | B4: 2611.7 | C4: =B4/$B$19 -> 0.91 | D4: =ROUNDDOWN(C4*$D$19,2) -> 17.27 | I4: Asturias | J4: 18.6
A5: Cantabria | B5: 2755.2 | C5: =B5/$B$19 -> 0.96 | D5: =ROUNDDOWN(C5*$D$19,2) -> 18.22 | I5: Canarias | J5: 17.27
A6: Castilla_La_Mancha | B6: 2525.6 | C6: =B6/$B$19 -> 0.88 | D6: =ROUNDDOWN(C6*$D$19,2) -> 16.7 | I6: Cantabria | J6: 18.22
A7: Castilla_y_León | B7: 2611.7 | C7: =B7/$B$19 -> 0.91 | D7: =ROUNDDOWN(C7*$D$19,2) -> 17.27 | I7: Castilla - La Mancha | J7: 16.7
A8: Cataluña | B8: 3128.3 | C8: =B8/$B$19 -> 1.09 | D8: =ROUNDDOWN(C8*$D$19,2) -> 20.68 | I8: Castilla y León | J8: 17.27
A9: Ceuta | B9: 3070.9 | C9: =B9/$B$19 -> 1.07 | D9: =ROUNDDOWN(C9*$D$19,2) -> 20.3 | I9: Cataluña | J9: 20.68
A10: Comunidad_Valenciana | B10: 2611.7 | C10: =B10/$B$19 -> 0.91 | D10: =ROUNDDOWN(C10*$D$19,2) -> 17.27 | I10: Ceuta | J10: 20.3
A11: Extremadura | B11: 2410.8 | C11: =B11/$B$19 -> 0.84 | D11: =ROUNDDOWN(C11*$D$19,2) -> 15.94 | I11: Comunidad Valenciana | J11: 17.27
A12: Galicia | B12: 2525.6 | C12: =B12/$B$19 -> 0.88 | D12: =ROUNDDOWN(C12*$D$19,2) -> 16.7 | I12: Extremadura | J12: 15.94
A13: Baleares | B13: 2755.2 | C13: =B13/$B$19 -> 0.96 | D13: =ROUNDDOWN(C13*$D$19,2) -> 18.22 | I13: Galicia | J13: 16.7
... A18: País_Vasco | B18: 3357.9 | C18: =B18/$B$19 -> 1.17 | D18: =ROUNDDOWN(C18*$D$19,2) -> 22.2 | I18: Navarra | J18: 20.3
B19: 2870 | D19: 18.98 | I19: País Vasco | J19: 22.2

Sheet Hoja2
A1: 30
A2: 25
A3: 20
A4: 15
A5: 10
A6: 0
A8: CCAA
A9: Andalucía | B9: 2496.9
A10: Aragón | B10: 2812.6
A11: Asturias | B11: 2812.6
A12: Canarias | B12: 2611.7
A13: Cantabria | B13: 2755.2
A14: Castilla_La_Mancha | B14: 2525.6
A15: Castilla_y_León | B15: 2611.7
A16: Cataluña | B16: 3128.3
A17: Ceuta | B17: 3070.9
A18: Comunidad_Valenciana | B18: 2611.7
A19: Extremadura | B19: 2410.8
A20: Galicia | B20: 2525.6
... A26: País_Vasco | B26: 3357.9
A28: Presupuesto Fase 1 Emprendedores | B28: Importe Total Gabinete | C28: Cofinanciación FSE+ (69,64%) | D28: Cofinanciación Nacional (30,36%)
A29: 30 | B29: =B32*2 -> 83966 | C29: =B29*0.6964 -> 58473.922 | D29: =B29-C29 -> 25492.078
A30: 25 | B30: =B32+B33 -> 69971.667 | C30: =B30*0.6964 -> 48728.269 | D30: =B30-C30 -> 21243.398
A31: 20 | B31: =B33*2 -> 55977.333 | C31: =B31*0.6964 -> 38982.615 | D31: =B31-C31 -> 16994.718
A32: 15 | B32: 41983 | C32: =B32*0.6964 -> 29236.961 | D32: =B32-C32 -> 12746.039
A33: 10 | B33: =(B32/3)*2 -> 27988.667 | C33: =B33*0.6964 -> 19491.307 | D33: =B33-C33 -> 8497.3592
A34: 0 | B34: 0 | C34: =B34*0.6964 -> 0 | D34: =B34-C34 -> 0
A36: Presupuesto Fase 2 Proyectos | B36: Presupuesto Máximo Elegible | C36: Cofinanciación FSE+ (69,64%) | D36: Cofinanciación Nacional (30,36%)
A37: 30 | B37: =B40*2 -> 132986 | C37: =B37*0.6964 -> 92611.45 | D37: =B37-C37 -> 40374.55
A38: 25 | B38: =B40+B41 -> 110821.67 | C38: =B38*0.6964 -> 77176.211 | D38: =B38-C38 -> 33645.459
A39: 20 | B39: =B41*2 -> 88657.34 | C39: =B39*0.6964 -> 61740.972 | D39: =B39-C39 -> 26916.368
A40: 15 | B40: 66493 | C40: =B40*0.6964 -> 46305.725 | D40: =B40-C40 -> 20187.275
A41: 10 | B41: 44328.67 | C41: =B41*0.6964 -> 30870.486 | D41: =B41-C41 -> 13458.184
A42: 0 | B42: 0 | C42: =B42*0.6964 -> 0 | D42: =B42-C42 -> 0

Sheet Tutor_FP
A1: 2026 | B1: FORMACIÓN TUTOR FP
B2: Coste Total | C2: FSE (69,64%) | D2: CCT (30,36%)
A3: Formación Tutor FP | B3: =F10 -> 0 | C3: =B3*0.6964 -> 0 | D3: =B3-C3 -> 0
A4: Presupuesto Total | B4: =SUM(B3:B3) -> 0 | C4: =SUM(C3:C3) -> 0 | D4: =B4-C4 -> 0
A6: CALCULADORA TUTOR FP
A7: Tramo Formación | B7: Nº Horas | C7: Nª Participantes | D7: Nº Total Horas | E7: Coste/Hora Alumno Reglamento Delegado (UE) 2023/1676 Trabajadores Cuenta Ajena (rellenar CCAA en pestaña "Resumen") | F7: Presupuesto Total | G7: FSE (69,64%) | H7: CCT (30,36%)
A8: Formación Tutor - Nivel Inicial | B8: 12 | C8: 0 | D8: =B8*C8 -> 0 | E8: =IFERROR(VLOOKUP(RESUMEN!$D$1,Hoja1!$A$1:$D$18,4,FALSE),0) -> 0 | F8: =D8*E8 -> 0 | G8: =F8*0.6964 -> 0 | H8: =F8*0.3036 -> 0
A9: Formación Tutor - Nivel Avanzado | B9: 16 | C9: 0 | D9: =B9*C9 -> 0 | E9: =IFERROR(VLOOKUP(RESUMEN!$D$1,Hoja1!$A$1:$D$18,4,FALSE),0) -> 0 | F9: =D9*E9 -> 0 | G9: =F9*0.6964 -> 0 | H9: =F9*0.3036 -> 0
A10: TOTAL | C10: =SUM(C8:C9) -> 0 | D10: =SUM(D8:D9) -> 0 | E10: TOTAL PRESUPUESTO | F10: =SUM(F8:F9) -> 0 | G10: =SUM(G8:G9) -> 0 | H10: =SUM(H8:H9) -> 0

Sheet FP Pyme
A1: 2026 | B1: FP PYME | F1: GABINETE
B2: Coste Total | C2: FSE (69,64%) | D2: CCT (30,36%) | F2: Nº Horas Efectivas del técnico (hasta 1720 horas) | G2: Coste/Hora Único + Otros Costes 40%
A3: Gabinete FP Pyme | B3: =F3*G3 -> 0 | C3: =B3*0.6964 -> 0 | D3: =B3-C3 -> 0 | G3: 38.46
A4: TOTAL | B4: =SUM(B3:B3) -> 0 | C4: =SUM(C3:C3) -> 0 | D4: =SUM(D3:D3) -> 0

Sheet Orientación_Profesional
A1: 2026 | B1: Orientación Profesional | F1: GABINETE
B2: Coste Total | C2: FSE (69,64%) | D2: CCT (30,36%) | F2: Nº Horas Efectivas del técnico (hasta 400 horas) | G2: Coste/Hora Único + Otros Costes 40%
A3: Dinamización | B3: =F3*G3 -> 0 | C3: =B3*0.6964 -> 0 | D3: =B3-C3 -> 0 | G3: 38.46
A4: TOTAL | B4: =SUM(B3:B3) -> 0 | C4: =SUM(C3:C3) -> 0 | D4: =SUM(D3:D3) -> 0
