Workbook

Sheet RESUMEN
A1: PROGRAMAS ÁREA EFE 2024 | C1: Introducir CCAA --->
B2: Programa | C2: Coste Total | D2: Ayuda FSE | E2: CCT
A3: EFESO | B3: Talento 45+ | C3: ='EFESO - Talento 45+'!B7 -> 0 | D3: =C3*0.6964 -> 0 | E3: =C3-D3 -> 0
B4: España Emprende - Proyecto B | C4: ='EFESO - EspañaEmprende B'!E8 -> 0 | D4: =C4*0.6964 -> 0 | E4: =C4-D4 -> 0
A5: Fondos Adicionales EFESO 2024 | C5: =SUM(C3:C4) -> 0 | D5: =SUM(D3:D4) -> 0 | E5: =SUM(E3:E4) -> 0

Sheet EFESO - Talento 45+
A1: Fondos Adicionales | B1: TALENTO JOVEN 45+
B2: Coste Total | C2: FSE (69,64%) | D2: CCT (30,36%)
A3: Orientación Empleabilidad | B3: =B11*B12 -> 0 | C3: =B3*0.6964 -> 0 | D3: =B3-C3 -> 0 | F3: Insertar CCAA en pestaña "Resumen"
A4: Formación Presencial y Online | B4: =E22 -> 0 | C4: =B4*0.6964 -> 0 | D4: =B4-C4 -> 0
A5: Diagnóstico Reconversión | B5: =C11*C12 -> 0 | C5: =B5*0.6964 -> 0 | D5: =B5-C5 -> 0
A6: Inserción Laboral | B6: =D11*D12 -> 0 | C6: =B6*0.6964 -> 0 | D6: =B6-C6 -> 0
A7: Petición Fondos Adicionales Talento 45+ | B7: =SUM(B3:B6) -> 0 | C7: =SUM(C3:C6) -> 0 | D7: =B7-C7 -> 0
A9: CALCULADORA TALENTO JOVEN 45+
B10: Orientación | C10: Diagnóstico para la reconversión | D10: Ayudas a la contratación
A11: Indicadores
A12: Coste Unitario | B12: 230.75 | C12: 249.98 | D12: 5000
A13: Presupuesto Tramos y Ayudas | B13: =B12*B11 -> 0 | C13: =C12*C11 -> 0 | D13: =D12*D11 -> 0
A15: CALCULADORA FORMACIÓN TALENTO 45+
A16: Tramo Formación | B16: Nº Horas | C16: Importe | D16: Nº Indicadores | E16: Coste Total | F16: FSE (69,64%) | G16: CCT (30,36%)
A17: Formación Presencial | B17: 30 | C17: =IFERROR(VLOOKUP(RESUMEN!$D$1,Hoja1!$A$1:$B$18,2,FALSE),0) -> 0 | E17: =C17*D17 -> 0 | F17: =E17*0.6964 -> 0 | G17: =E17-F17 -> 0
B18: 60 | C18: =IFERROR(VLOOKUP(RESUMEN!$D$1,Hoja1!$A$1:$B$18,2,FALSE),0) -> 0 | E18: =C18*D18 -> 0 | F18: =E18*0.6964 -> 0 | G18: =E18-F18 -> 0
B19: 90 | C19: =IFERROR(VLOOKUP(RESUMEN!$D$1,Hoja1!$A$1:$B$18,2,FALSE),0) -> 0 | E19: =C19*D19 -> 0 | F19: =E19*0.6964 -> 0 | G19: =E19-F19 -> 0
B20: 120 | C20: =IFERROR(VLOOKUP(RESUMEN!$D$1,Hoja1!$A$1:$B$18,2,FALSE),0) -> 0 | E20: =C20*D20 -> 0 | F20: =E20*0.6964 -> 0 | G20: =E20-F20 -> 0
B21: 150 | C21: =IFERROR(VLOOKUP(RESUMEN!$D$1,Hoja1!$A$1:$B$18,2,FALSE),0) -> 0 | E21: =C21*D21 -> 0 | F21: =E21*0.6964 -> 0 | G21: =E21-F21 -> 0
A22: TOTAL | D22: =SUM(D17:D21) -> 0 | E22: =SUM(E17:E21) -> 0 | F22: =SUM(F17:F21) -> 0 | G22: =SUM(G17:G21) -> 0

Sheet EFESO - EspañaEmprende B
A1: CALCULADORA PROYECTO B - ESPAÑA EMPRENDE
A2: Tipo Formación | B2: Nº Horas | C2: Importe | D2: Indicadores | E2: Coste Total | F2: FSE (69,64%) | G2: CCT
A3: Formación Presencial | B3: 30 | C3: =IFERROR(VLOOKUP(RESUMEN!$D$1,Hoja1!$A$1:$B$18,2,FALSE),0) -> 0 | E3: =C3*D3 -> 0 | F3: =+E3*69.64% -> 0 | G3: =+E3-F3 -> 0
B4: 60 | C4: =IFERROR(VLOOKUP(RESUMEN!$D$1,Hoja1!$A$1:$B$18,2,FALSE),0) -> 0 | E4: =C4*D4 -> 0 | F4: =+E4*69.64% -> 0 | G4: =+E4-F4 -> 0
B5: 90 | C5: =IFERROR(VLOOKUP(RESUMEN!$D$1,Hoja1!$A$1:$B$18,2,FALSE),0) -> 0 | E5: =C5*D5 -> 0 | F5: =+E5*69.64% -> 0 | G5: =+E5-F5 -> 0
B6: 120 | C6: =IFERROR(VLOOKUP(RESUMEN!$D$1,Hoja1!$A$1:$B$18,2,FALSE),0) -> 0 | E6: =C6*D6 -> 0 | F6: =+E6*69.64% -> 0 | G6: =+E6-F6 -> 0
B7: 150 | C7: =IFERROR(VLOOKUP(RESUMEN!$D$1,Hoja1!$A$1:$B$18,2,FALSE),0) -> 0 | E7: =C7*D7 -> 0 | F7: =+E7*69.64% -> 0 | G7: =+E7-F7 -> 0
A8: Petición Fondos Adicionales Formación España Emprende 2024 | D8: =SUM(D3:D7) -> 0 | E8: =SUM(E3:E7) -> 0 | F8: =SUM(F3:F7) -> 0 | G8: =SUM(G3:G7) -> 0

Sheet Hoja1
A1: Andalucía | B1: 2496.9
A2: Aragón | B2: 2812.6
A3: Asturias | B3: 2812.6
A4: Canarias | B4: 2611.7
A5: Cantabria | B5: 2755.2
A6: Castilla_La_Mancha | B6: 2525.6
A7: Castilla_y_León | B7: 2611.7
A8: Cataluña | B8: 3128.3
A9: Ceuta | B9: 3070.9
A10: Comunidad_Valenciana | B10: 2611.7
A11: Extremadura | B11: 2410.8
A12: Galicia | B12: 2525.6
... A18: País_Vasco | B18: 3357.9
A20: Presupuesto Fase 1 Emprendedores | B20: Importe Total Gabinete | C20: Cofinanciación FSE+ (69,64%) | D20: Cofinanciación Nacional (30,36%)
A21: 15 | B21: 41983 | C21: =B21*0.6964 -> 29236.961 | D21: =B21-C21 -> 12746.039 | F21: 15
A22: 10 | B22: =(B21/3)*2 -> 27988.667 | C22: =B22*0.6964 -> 19491.307 | D22: =B22-C22 -> 8497.3592 | F22: 10
F23: 0
A24: Presupuesto Fase 2 Proyectos | B24: Presupuesto Máximo Elegible | C24: Cofinanciación FSE+ (69,64%) | D24: Cofinanciación Nacional (30,36%)
A25: 15 | B25: 66493 | C25: =B25*0.6964 -> 46305.725 | D25: =B25-C25 -> 20187.275
A26: 10 | B26: =B25*0.6666667 -> 44328.669 | C26: =B26*0.6964 -> 30870.485 | D26: =B26-C26 -> 13458.184
