Workbook

Sheet RESUMEN
A1: PROGRAMAS ÁREA EFE 2024 | C1: Introducir CCAA --->
B2: Programa | C2: Coste Total | D2: Ayuda FSE | E2: CCT
A3: EFESO | B3: Talento 45+ | C3: ='EFESO - Talento 45+'!B7 -> 0 | D3: =C3*0.6964 -> 0 | E3: =C3-D3 -> 0
B4: Encuentros 45+ | C4: ='EFESO - Encuentros 45+'!E6 -> 0 | D4: =C4*0.6964 -> 0 | E4: =C4-D4 -> 0
B5: Emprendedoras PAEM - Proyecto A | C5: ='EFESO - Emprendedoras A y B'!B3 -> 0 | D5: =C5*0.6964 -> 0 | E5: =C5-D5 -> 0
B6: Emprendedoras PAEM - Proyecto B | C6: ='EFESO - Emprendedoras A y B'!B4 -> 0 | D6: =C6*0.6964 -> 0 | E6: =C6-D6 -> 0
B7: España Emprende - Proyecto A | C7: ='EFESO - EspañaEmprende A y B'!B3 -> 0 | D7: =C7*0.6964 -> 0 | E7: =C7-D7 -> 0
B8: España Emprende - Proyecto B | C8: ='EFESO - EspañaEmprende A y B'!B4 -> 0 | D8: =C8*0.6964 -> 0 | E8: =C8-D8 -> 0
B9: Impulsa Startup | C9: =EFESO_Impulsa_Startup!C8 -> 0 | D9: =C9*0.6964 -> 0 | E9: =C9-D9 -> 0
A10: Fondos Adicionales EFESO 2024 | C10: =SUM(C3:C9) -> 0 | D10: =SUM(D3:D9) -> 0 | E10: =SUM(E3:E9) -> 0

Sheet EFESO - Talento 45+
A1: Fondos Adicionales | B1: TALENTO JOVEN 45+
B2: Coste Total | C2: FSE (69,64%) | D2: CCT (30,36%)
A3: Orientación Empleabilidad | B3: =B11*B12 -> 0 | C3: =B3*0.6964 -> 0 | D3: =B3-C3 -> 0 | F3: Insertar CCAA en pestaña "Resumen"
A4: Formación Presencial y Online | B4: =E22 -> 0 | C4: =B4*0.6964 -> 0 | D4: =B4-C4 -> 0
A5: Diagnóstico Reconversión | B5: =C11*C12 -> 0 | C5: =B5*0.6964 -> 0 | D5: =B5-C5 -> 0
A6: Inserción Laboral | B6: =D11*D12 -> 0 | C6: =B6*0.6964 -> 0 | D6: =B6-C6 -> 0
A7: Petición Fondos Adicionales Talento 45+ | B7: =SUM(B3:B6) -> 0 | C7: =SUM(C3:C6) -> 0 | D7: =B7-C7 -> 0
A9: CALCULADORA TALENTO JOVEN 45+
B10: Orientación | C10: Diagnóstico para la reconversión | D10: Ayudas a la contratación
A11: Indicadores
A12: Coste Unitario | B12: 230.75 | C12: 249.98 | D12: 5000
A13: Presupuesto Tramos y Ayudas | B13: =B12*B11 -> 0 | C13: =C12*C11 -> 0 | D13: =D12*D11 -> 0
A15: CALCULADORA FORMACIÓN TALENTO 45+
A16: Tramo Formación | B16: Nº Horas | C16: Importe | D16: Nº Indicadores | E16: Coste Total | F16: FSE (69,64%) | G16: CCT (30,36%)
A17: Formación Presencial | B17: 30 | C17: =IFERROR(VLOOKUP(RESUMEN!$D$1,Hoja1!$A$1:$B$18,2,FALSE),0) -> 0 | E17: =C17*D17 -> 0 | F17: =E17*0.6964 -> 0 | G17: =E17-F17 -> 0
B18: 60 | C18: =IFERROR(VLOOKUP(RESUMEN!$D$1,Hoja1!$A$1:$B$18,2,FALSE),0) -> 0 | E18: =C18*D18 -> 0 | F18: =E18*0.6964 -> 0 | G18: =E18-F18 -> 0
B19: 90 | C19: =IFERROR(VLOOKUP(RESUMEN!$D$1,Hoja1!$A$1:$B$18,2,FALSE),0) -> 0 | E19: =C19*D19 -> 0 | F19: =E19*0.6964 -> 0 | G19: =E19-F19 -> 0
B20: 120 | C20: =IFERROR(VLOOKUP(RESUMEN!$D$1,Hoja1!$A$1:$B$18,2,FALSE),0) -> 0 | E20: =C20*D20 -> 0 | F20: =E20*0.6964 -> 0 | G20: =E20-F20 -> 0
B21: 150 | C21: =IFERROR(VLOOKUP(RESUMEN!$D$1,Hoja1!$A$1:$B$18,2,FALSE),0) -> 0 | E21: =C21*D21 -> 0 | F21: =E21*0.6964 -> 0 | G21: =E21-F21 -> 0
A22: TOTAL | D22: =SUM(D17:D21) -> 0 | E22: =SUM(E17:E21) -> 0 | F22: =SUM(F17:F21) -> 0 | G22: =SUM(G17:G21) -> 0

Sheet EFESO - Encuentros 45+
A1: Fondos Adicionales | B1: Presupuesto por Tipo de Encuentro | C1: Nº Beneficiarios por Tipo de Encuentro | D1: Insertar Nº de Encuentros según tipo (máximo 2) | E1: ENCUENTROS 45+ 2024
E2: Coste Total | F2: FSE (69,64%) | G2: CCI (30'36%)
A3: Encuentros 45+ - Tipo A | B3: 60000 | C3: 150 | D3: 0 | E3: =B3*D3 -> 0 | F3: =E3*0.6964 -> 0 | G3: =E3-F3 -> 0
A4: Encuentros 45+ - Tipo B | B4: 40000 | C4: 100 | D4: 0 | E4: =B4*D4 -> 0 | F4: =E4*0.6964 -> 0 | G4: =E4-F4 -> 0
A5: Encuentros 45+ - Tipo C | B5: 20000 | C5: 50 | D5: 0 | E5: =B5*D5 -> 0 | F5: =E5*0.6964 -> 0 | G5: =E5-F5 -> 0
A6: Petición Fondos Adicionales | D6: =D3+D4+D5 -> 0 | E6: =SUM(E3:E5) -> 0 | F6: =SUM(F3:F5) -> 0 | G6: =SUM(G3:G5) -> 0
D7: Nº máximo de Encuentros 45+ = 2

Sheet EFESO - Emprendedoras A y B
A1: Fondos Adicionales | B1: Emprendedoras | F1: GABINETE - Proyecto A
B2: Coste Total | C2: FSE (69,64%) | D2: CCT (30,36%) | F2: Nº Horas a Imputar por un técnico | G2: Coste/Hora Único + Otros Costes 40%
A3: Gabinete - Proyecto A | B3: =F3*G3 -> 0 | C3: =B3*0.6964 -> 0 | D3: =B3-C3 -> 0 | G3: 38.46
A4: Formación - Proyecto B | B4: =E14 -> 0 | C4: =B4*0.6964 -> 0 | D4: =B4-C4 -> 0
A5: Petición Fondos Adicionales | B5: =SUM(B3:B4) -> 0 | C5: =SUM(C3:C4) -> 0 | D5: =SUM(D3:D4) -> 0
F6: Insertar CCAA en pestaña "Resumen"
A7: CALCULADORA PROYECTO B - PAEM
A8: Tipo Formación | B8: Nº Horas | C8: Importe | D8: Indicadores | E8: Coste Total | F8: FSE (69,64%) | G8: CCT
A9: Formación Presencial | B9: 30 | C9: =IFERROR(VLOOKUP(RESUMEN!$D$1,Hoja1!$A$1:$B$18,2,FALSE),0) -> 0 | E9: =C9*D9 -> 0 | F9: =+E9*0.6964% -> 0 | G9: =+E9-F9 -> 0
B10: 60 | C10: =IFERROR(VLOOKUP(RESUMEN!$D$1,Hoja1!$A$1:$B$18,2,FALSE),0) -> 0 | E10: =C10*D10 -> 0 | F10: =+E10*0.6964% -> 0 | G10: =+E10-F10 -> 0
B11: 90 | C11: =IFERROR(VLOOKUP(RESUMEN!$D$1,Hoja1!$A$1:$B$18,2,FALSE),0) -> 0 | E11: =C11*D11 -> 0 | F11: =+E11*0.6964% -> 0 | G11: =+E11-F11 -> 0
B12: 120 | C12: =IFERROR(VLOOKUP(RESUMEN!$D$1,Hoja1!$A$1:$B$18,2,FALSE),0) -> 0 | E12: =C12*D12 -> 0 | F12: =+E12*0.6964% -> 0 | G12: =+E12-F12 -> 0
B13: 150 | C13: =IFERROR(VLOOKUP(RESUMEN!$D$1,Hoja1!$A$1:$B$18,2,FALSE),0) -> 0 | E13: =C13*D13 -> 0 | F13: =+E13*0.6964% -> 0 | G13: =+E13-F13 -> 0
A14: Petición Fondos Adicionales Formación PAEM 2024 | D14: =SUM(D9:D13) -> 0 | E14: =SUM(E9:E13) -> 0 | F14: =SUM(F9:F13) -> 0 | G14: =SUM(G9:G13) -> 0

Sheet EFESO - EspañaEmprende A y B
A1: Fondos Adicionales | B1: ESPAÑA EMPRENDE | F1: GABINETE - Proyecto A
B2: Coste Total | C2: FSE (69,64%) | D2: CCT (30,36%) | F2: Nº Horas a Imputar por un técnico | G2: Coste/Hora Único + Otros Costes 40%
A3: Gabinete - Proyecto A | B3: =F3*G3 -> 0 | C3: =B3*0.6964 -> 0 | D3: =B3-C3 -> 0 | G3: 38.46
A4: Formación - Proyecto B | B4: =E14 -> 0 | C4: =B4*0.6964 -> 0 | D4: =B4-C4 -> 0
A5: Petición Fondos Adicionales | B5: =SUM(B3:B4) -> 0 | C5: =SUM(C3:C4) -> 0 | D5: =SUM(D3:D4) -> 0
F6: Insertar CCAA en pestaña "Resumen"
A7: CALCULADORA PROYECTO B - ESPAÑA EMPRENDE
A8: Tipo Formación | B8: Nº Horas | C8: Importe | D8: Indicadores | E8: Coste Total | F8: FSE (69,64%) | G8: CCT
A9: Formación Presencial | B9: 30 | C9: =IFERROR(VLOOKUP(RESUMEN!$D$1,Hoja1!$A$1:$B$18,2,FALSE),0) -> 0 | E9: =C9*D9 -> 0 | F9: =+E9*69.64% -> 0 | G9: =+E9-F9 -> 0
B10: 60 | C10: =IFERROR(VLOOKUP(RESUMEN!$D$1,Hoja1!$A$1:$B$18,2,FALSE),0) -> 0 | E10: =C10*D10 -> 0 | F10: =+E10*69.64% -> 0 | G10: =+E10-F10 -> 0
B11: 90 | C11: =IFERROR(VLOOKUP(RESUMEN!$D$1,Hoja1!$A$1:$B$18,2,FALSE),0) -> 0 | E11: =C11*D11 -> 0 | F11: =+E11*69.64% -> 0 | G11: =+E11-F11 -> 0
B12: 120 | C12: =IFERROR(VLOOKUP(RESUMEN!$D$1,Hoja1!$A$1:$B$18,2,FALSE),0) -> 0 | E12: =C12*D12 -> 0 | F12: =+E12*69.64% -> 0 | G12: =+E12-F12 -> 0
B13: 150 | C13: =IFERROR(VLOOKUP(RESUMEN!$D$1,Hoja1!$A$1:$B$18,2,FALSE),0) -> 0 | E13: =C13*D13 -> 0 | F13: =+E13*69.64% -> 0 | G13: =+E13-F13 -> 0
A14: Petición Fondos Adicionales Formación España Emprende 2024 | D14: =SUM(D9:D13) -> 0 | E14: =SUM(E9:E13) -> 0 | F14: =SUM(F9:F13) -> 0 | G14: =SUM(G9:G13) -> 0

Sheet EFESO_Impulsa_Startup
A1: IMPULSA STARTUP 2024 | B1: CALCULADORA PRESUPUESTO IMPULSA STARTUP
B2: Indicadores | C2: Coste Total | D2: FSE (69,64%) | E2: CCT (30,36%)
A3: Fase 1 - Crea y Crece (Gabinete) | B3: 0 | C3: =IFERROR(VLOOKUP(B3,Hoja1!$A$21:$B$22,2,FALSE),0) -> 0 | D3: =C3*0.69 -> 0 | E3: =C3-D3 -> 0
A4: Fase 1 - Crea y Crece (Formación) | B4: 0 | C4: =IFERROR(VLOOKUP(RESUMEN!D1,Hoja1!A1:B18,2,FALSE),0)*B4 -> 0 | D4: =C4*0.69 -> 0 | E4: =C4-D4 -> 0
A5: Total Fase 1 | C5: =SUM(C3:C4) -> 0 | D5: =SUM(D3:D4) -> 0 | E5: =SUM(E3:E4) -> 0
A6: Fase 2 - Despega (Gabinete) | B6: 0 | C6: =IFERROR(VLOOKUP(B6,Hoja1!$A$25:$B$26,2,FALSE),0) -> 0 | D6: =C6*0.69 -> 0 | E6: =C6-D6 -> 0
A7: Total Fase 2 | C7: =SUM(C6) -> 0 | D7: =C7*0.6964 -> 0 | E7: =C7-D7 -> 0
A8: Impulsa Startup 2024 | C8: =C7+C5 -> 0 | D8: =D7+D5 -> 0 | E8: =E7+E5 -> 0
C9: Insertar CCAA en pestaña "Resumen"

Sheet Hoja1
A1: Andalucía | B1: 2496.9
A2: Aragón | B2: 2812.6
A3: Asturias | B3: 2812.6
A4: Canarias | B4: 2611.7
A5: Cantabria | B5: 2755.2
A6: Castilla_La_Mancha | B6: 2525.6
A7: Castilla_y_León | B7: 2611.7
A8: Cataluña | B8: 3128.3
A9: Ceuta | B9: 3070.9
A10: Comunidad_Valenciana | B10: 2611.7
A11: Extremadura | B11: 2410.8
A12: Galicia | B12: 2525.6
... A18: País_Vasco | B18: 3357.9
A20: Presupuesto Fase 1 Emprendedores | B20: Importe Total Gabinete | C20: Cofinanciación FSE+ (69,64%) | D20: Cofinanciación Nacional (30,36%)
A21: 15 | B21: 41983 | C21: =B21*0.6964 -> 29236.961 | D21: =B21-C21 -> 12746.039 | F21: 15
A22: 10 | B22: =(B21/3)*2 -> 27988.667 | C22: =B22*0.6964 -> 19491.307 | D22: =B22-C22 -> 8497.3592 | F22: 10
F23: 0
A24: Presupuesto Fase 2 Proyectos | B24: Presupuesto Máximo Elegible | C24: Cofinanciación FSE+ (69,64%) | D24: Cofinanciación Nacional (30,36%)
A25: 15 | B25: 66493 | C25: =B25*0.6964 -> 46305.725 | D25: =B25-C25 -> 20187.275
A26: 10 | B26: =B25*0.6666667 -> 44328.669 | C26: =B26*0.6964 -> 30870.485 | D26: =B26-C26 -> 13458.184
