Workbook

Sheet Leyenda
A1: PROGRAMA FSE+ | B1: PROGRAMA | C1: PERÍODO DE PROGRAMACIÓN | D1: OBSERVACIONES
A2: Observaciones Generales | D2: · Cumplimentar únicamente celdas en amarillo. · Se contempla la ejecución desde 1 de enero de 2024 en todos los programas.
A3: Empleo Juvenil | B3: PICE | C3: 2021-2027 | D3: · Para el presente ejercicio se mantiene una estructura de tramos equivalente a la actual, sin perjuicio de posibles modificaciones a implementar · La proporción de los indicadores a realizar por cada tramo se verá sujeta en todo caso a valoración por parte de CCE como en anteriores anualidades
B4: Plan Movilidad | C4: 2021-2027 | D4: · Misma estructura que en los últimos años, sin previsión de modificaciones. · Formación limitada a un número de indicadores máximo (x2 sobre las movilidades firmadas en DECA).
B5: Ferias PICE | C5: 2021-2027 | D5: · Ferias formuladas en base a "proyecto de presupuesto". · Se reflejan distintos tipos de Feria en función del alcance de público asistente. · Máximo de seis ferias por anualidad.

Sheet RESUMEN
A1: PROGRAMAS ÁREA EFE 2024 | C1: Introducir CCAA --->
B2: Programa | C2: Coste Total | D2: Ayuda FSE | E2: CCT
A3: Empleo Juvenil | B3: PICE | C3: =PICE!B3 -> 0 | D3: =PICE!C3 -> 0 | E3: =PICE!D3 -> 0
B4: Plan Movilidad | C4: ='POEJ - Plan_Movilidad'!B3 -> 0 | D4: ='POEJ - Plan_Movilidad'!C3 -> 0 | E4: ='POEJ - Plan_Movilidad'!D3 -> 0
B5: Ferias PICE | C5: ='POEJ - Ferias PICE'!E6 -> 0 | D5: ='POEJ - Ferias PICE'!F6 -> 0 | E5: ='POEJ - Ferias PICE'!G6 -> 0
A6: Total Empleo Juvenil 2024 | C6: =SUM(C3+C4+C5) -> 0 | D6: =SUM(D3+D4+D5) -> 0 | E6: =SUM(E3+E4+E5) -> 0

Sheet Hoja1
A1: Andalucía | B1: 2496.9
A2: Aragón | B2: 2812.6
A3: Asturias | B3: 2812.6
A4: Canarias | B4: 2611.7
A5: Cantabria | B5: 2755.2
A6: Castilla_La_Mancha | B6: 2525.6
A7: Castilla_y_León | B7: 2611.7
A8: Cataluña | B8: 3128.3
A9: Ceuta | B9: 3070.9
A10: Comunidad_Valenciana | B10: 2611.7
A11: Extremadura | B11: 2410.8
A12: Galicia | B12: 2525.6
... A18: País_Vasco | B18: 3357.9

Sheet PICE
A1: FSE 2021-2027 | B1: PICE +
B2: Coste Total | C2: FSE (69'64%) | D2: CCI (30'36%)
A3: Presupuesto Total | B3: =E20 -> 0 | C3: =F20 -> 0 | D3: =B3-C3 -> 0
A5: Tramo | B5: Fase | C5: Coste Tramo | D5: Indicadores | E5: Coste Total | F5: FSE (69'64%) | G5: CCI (30'36%)
A6: Tramo 0 | B6: Atención Inicial e Inscripción | C6: 57.69 | E6: =IFERROR(+C6*D6,"---") -> 0 | F6: =+E6*69.64% -> 0 | G6: =+E6-F6 -> 0
A7: Tramo 1 | B7: Orientación Vocacional | C7: 230.75 | E7: =IFERROR(+C7*D7,"---") -> 0 | F7: =+E7*69.64% -> 0 | G7: =+E7-F7 -> 0
A8: Tramo 2 - Formación Competencias | B8: Formación Presencial 30 horas | C8: =IFERROR(VLOOKUP(RESUMEN!$D$1,Hoja1!$A$1:$B$18,2,FALSE),0) -> 0 | E8: =IFERROR(+C8*D8,"---") -> 0 | F8: =+E8*69.64% -> 0 | G8: =+E8-F8 -> 0
B9: Formación Presencial 60 horas | C9: =IFERROR(VLOOKUP(RESUMEN!$D$1,Hoja1!$A$1:$B$18,2,FALSE),0) -> 0 | E9: =IFERROR(+C9*D9,"---") -> 0 | F9: =+E9*69.64% -> 0 | G9: =+E9-F9 -> 0
B10: Formación Presencial 90 horas | C10: =IFERROR(VLOOKUP(RESUMEN!$D$1,Hoja1!$A$1:$B$18,2,FALSE),0) -> 0 | E10: =IFERROR(+C10*D10,"---") -> 0 | F10: =+E10*69.64% -> 0 | G10: =+E10-F10 -> 0
B11: Formación Presencial 120 horas | C11: =IFERROR(VLOOKUP(RESUMEN!$D$1,Hoja1!$A$1:$B$18,2,FALSE),0) -> 0 | E11: =IFERROR(+C11*D11,"---") -> 0 | F11: =+E11*69.64% -> 0 | G11: =+E11-F11 -> 0
B12: Formación Presencial 150 horas | C12: =IFERROR(VLOOKUP(RESUMEN!$D$1,Hoja1!$A$1:$B$18,2,FALSE),0) -> 0 | E12: =IFERROR(+C12*D12,"---") -> 0 | F12: =+E12*69.64% -> 0 | G12: =+E12-F12 -> 0
A13: Tramo 3 - Formación Necesidades Empresas | B13: Formación Presencial 30 horas | C13: =IFERROR(VLOOKUP(RESUMEN!$D$1,Hoja1!$A$1:$B$18,2,FALSE),0) -> 0 | E13: =IFERROR(+C13*D13,"---") -> 0 | F13: =+E13*69.64% -> 0 | G13: =+E13-F13 -> 0
B14: Formación Presencial 60 horas | C14: =IFERROR(VLOOKUP(RESUMEN!$D$1,Hoja1!$A$1:$B$18,2,FALSE),0) -> 0 | E14: =IFERROR(+C14*D14,"---") -> 0 | F14: =+E14*69.64% -> 0 | G14: =+E14-F14 -> 0
B15: Formación Presencial 90 horas | C15: =IFERROR(VLOOKUP(RESUMEN!$D$1,Hoja1!$A$1:$B$18,2,FALSE),0) -> 0 | E15: =IFERROR(+C15*D15,"---") -> 0 | F15: =+E15*69.64% -> 0 | G15: =+E15-F15 -> 0
B16: Formación Presencial 120 horas | C16: =IFERROR(VLOOKUP(RESUMEN!$D$1,Hoja1!$A$1:$B$18,2,FALSE),0) -> 0 | E16: =IFERROR(+C16*D16,"---") -> 0 | F16: =+E16*69.64% -> 0 | G16: =+E16-F16 -> 0
B17: Formación Presencial 150 horas | C17: =IFERROR(VLOOKUP(RESUMEN!$D$1,Hoja1!$A$1:$B$18,2,FALSE),0) -> 0 | E17: =IFERROR(+C17*D17,"---") -> 0 | F17: =+E17*69.64% -> 0 | G17: =+E17-F17 -> 0
A18: Tramo 4 | B18: Acompañamiento | C18: 249.98 | E18: =IFERROR(+C18*D18,"---") -> 0 | F18: =+E18*69.64% -> 0 | G18: =+E18-F18 -> 0
A19: Tramo 5 | B19: Ayuda por contratación (mínimo 6 meses) | C19: 5000 | E19: =C19*D19 -> 0 | F19: =+E19*69.64% -> 0 | G19: =+E19-F19 -> 0
A20: Total Presupuesto PICE 2024 | D20: =SUM(D6:D19) -> 0 | E20: =SUM(E6:E19) -> 0 | F20: =SUM(F6:F19) -> 0 | G20: =SUM(G6:G19) -> 0

Sheet POEJ - Plan_Movilidad
A1: FSE 2021-2027 | B1: PLAN MOVILIDAD
B2: Coste Total | C2: FSE (69'64%) | D2: CCI (30'36%)
A3: Presupuesto Total | B3: =D9+D15+D18+E26 -> 0 | C3: =E9+E15+E18+F26 -> 0 | D3: =F9+F15+F18+G26 -> 0
A5: Tipo de Gabinete | B5: Seleccionar Tipo Gabinete con una X | C5: Indicadores a Gestionar | D5: Coste Total | E5: FSE (69'64%) | F5: CCI (30'36%)
A6: Gabinete 1 | C6: 80 | D6: =D7*2 -> 132302.4 | E6: =+D6*69.64% -> 92135.391 | F6: =+D6-E6 -> 40167.009
A7: Gabinete 2 | C7: 40-79 | D7: =1720*38.46 -> 66151.2 | E7: =+D7*69.64% -> 46067.696 | F7: =+D7-E7 -> 20083.504
A8: Gabinete 3 | C8: 20-39 | D8: =D7*0.5 -> 33075.6 | E8: =+D8*69.64% -> 23033.848 | F8: =+D8-E8 -> 10041.752
A9: Total Presupuesto Gabinete Movilidad 2024 | D9: =IF(B6="x",+D6,IF(B7="x",+D7,IF(B8="x",+D8))) -> FALSE | E9: =D9*0.6964 -> 0 | F9: =D9-E9 -> 0
A11: Tipo Movilidades | B11: Importe Máx. | C11: Insertar Nº Movilidades | D11: Coste Total | E11: FSE (69'64%) | F11: CCI (30'36%)
A12: 3 Meses | B12: 3000 | D12: =C12*B12 -> 0 | E12: =+D12*69.64% -> 0 | F12: =+D12-E12 -> 0
A13: 6 Meses | B13: 6000 | D13: =C13*B13 -> 0 | E13: =+D13*69.64% -> 0 | F13: =+D13-E13 -> 0
A14: Contratos | B14: 820 | D14: =C14*B14 -> 0 | E14: =+D14*69.64% -> 0 | F14: =+D14-E14 -> 0
A15: Total Presupuesto Movilidades 2023 (ajustar nº movilidades a tipo de gabinete) | D15: =SUM(D12:D14) -> 0 | E15: =D15*0.6964 -> 0 | F15: =D15-E15 -> 0
D17: Coste Total | E17: FSE (69'64%) | F17: CCI (30'36%)
C18: Insertar Total Presupuesto Seguros 2024 | E18: =+D18*69.64% -> 0 | F18: =+D18-E18 -> 0
A20: Tipo Formación | B20: Nº Horas | C20: Importe | D20: Indicadores | E20: Coste Total | F20: FSE (69'64%) | G20: CCI (30'36%)
A21: Formación Presencial | B21: 30 | C21: =IFERROR(VLOOKUP(RESUMEN!$D$1,Hoja1!$A$1:$B$18,2,FALSE),0) -> 0 | E21: =C21*D21 -> 0 | F21: =E21*0.6964 -> 0 | G21: =E21-F21 -> 0
B22: 60 | C22: =IFERROR(VLOOKUP(RESUMEN!$D$1,Hoja1!$A$1:$B$18,2,FALSE),0) -> 0 | E22: =C22*D22 -> 0 | F22: =E22*0.6964 -> 0 | G22: =E22-F22 -> 0
B23: 90 | C23: =IFERROR(VLOOKUP(RESUMEN!$D$1,Hoja1!$A$1:$B$18,2,FALSE),0) -> 0 | E23: =C23*D23 -> 0 | F23: =E23*0.6964 -> 0 | G23: =E23-F23 -> 0
B24: 120 | C24: =IFERROR(VLOOKUP(RESUMEN!$D$1,Hoja1!$A$1:$B$18,2,FALSE),0) -> 0 | E24: =C24*D24 -> 0 | F24: =E24*0.6964 -> 0 | G24: =E24-F24 -> 0
B25: 150 | C25: =IFERROR(VLOOKUP(RESUMEN!$D$1,Hoja1!$A$1:$B$18,2,FALSE),0) -> 0 | E25: =C25*D25 -> 0 | F25: =E25*0.6964 -> 0 | G25: =E25-F25 -> 0
A26: Total Presupuesto Formación Movilidad 2024 | D26: =SUM(D21:D25) -> 0 | E26: =SUM(E21:E25) -> 0 | F26: =SUM(F21:F25) -> 0 | G26: =SUM(G21:G25) -> 0
D27: *El nº de Indicadores de Formación no podrá superar el doble del nº total de movilidades

Sheet POEJ - Ferias PICE
A1: Tipo de Feria | B1: Presupuesto por Tipo de Feria | C1: Nº Beneficiarios SNGJ por Tipo de Feria | D1: Insertar Nº de Ferias según tipo (máximo 6) | E1: FERIAS PICE 2024
E2: Coste Total | F2: FSE (69,64%) | G2: CCI (30'36%)
A3: Feria PICE – Tipo A | B3: 60000 | C3: 150 | E3: =B3*D3 -> 0 | F3: =E3*0.6964 -> 0 | G3: =E3-F3 -> 0
A4: Feria PICE – Tipo B | B4: 40000 | C4: 100 | E4: =B4*D4 -> 0 | F4: =E4*0.6964 -> 0 | G4: =E4-F4 -> 0
A5: Feria PICE – Tipo C | B5: 20000 | C5: 50 | E5: =B5*D5 -> 0 | F5: =E5*0.6964 -> 0 | G5: =E5-F5 -> 0
A6: TOTAL | D6: =D3+D4+D5 -> 0 | E6: =SUM(E3:E5) -> 0 | F6: =SUM(F3:F5) -> 0 | G6: =SUM(G3:G5) -> 0
D7: Nº máximo de Ferias PICE = 6
