Workbook

Sheet Leyenda
A1: PROGRAMA OPERATIVO | B1: PROGRAMA | C1: PERÍODO DE PROGRAMACIÓN | D1: OBSERVACIONES
A2: Observaciones Generales | D2: · Cumplimentar únicamente celdas en amarillo. · Se contempla la ejecución desde 1 de enero de 2024 en todos los programas.
A3: EFESO | B3: 45+ | C3: 2021-2027 | D3: · Se alinea la estructura de los módulos horarios de las acciones formativas al resto de programas. · Importes y cofinanciación del período 2021-2027
B4: PAEM - Proyecto A | C4: 2021-2027 | D4: Dedicación real del técnico con coste/hora fijo: 38,46 € * nº de horas dedicadas
B5: PAEM - Proyecto B | C5: 2021-2027 | D5: · Se alinea la estructura de los módulos horarios de las acciones formativas al resto de programas. · Importes y cofinanciación del período 2021-2027
B6: España Emprende - Proyecto A | C6: 2021-2027 | D6: Dedicación real del técnico con coste/hora fijo: 38,46 € * nº de horas dedicadas
B7: España Emprende - Proyecto B | C7: 2021-2027 | D7: · Se alinea la estructura de los módulos horarios de las acciones formativas al resto de programas. · Importes y cofinanciación del período 2021-2027
B8: FP Dual en la Empresa | C8: 2021-2027 | D8: Dedicación real del técnico con coste/hora fijo: 38,46 € * nº de horas dedicadas
B9: Ferias FP Dual | C9: 2021-2027 | D9: · Ferias formuladas en base a "proyecto de presupuesto". · Se reflejan distintos tipos de Feria en función del objetivo de empresas asesoradas · Máximo de seis ferias por anualidad.
B10: Red de Embajadores | C10: 2021-2027 | D10: Dedicación real del técnico con coste/hora fijo: 38,46 € * nº de horas dedicadas

Sheet RESUMEN
A1: PROGRAMAS ÁREA EFE 2024 | C1: Introducir CCAA --->
B2: Programa | C2: Coste Total | D2: Ayuda FSE | E2: CCT
A3: EFESO | B3: 45+ | C3: ='45+'!B7 -> 0 | D3: ='45+'!C7 -> 0 | E3: ='45+'!D7 -> 0
B4: PAEM - Proyecto A | C4: ='PAEM_Proyectos A y B'!B3 -> 0 | D4: ='PAEM_Proyectos A y B'!C3 -> 0 | E4: ='PAEM_Proyectos A y B'!D3 -> 0
B5: PAEM - Proyecto B | C5: ='PAEM_Proyectos A y B'!B4 -> 0 | D5: ='PAEM_Proyectos A y B'!C4 -> 0 | E5: ='PAEM_Proyectos A y B'!D4 -> 0
B6: España Emprende - Proyecto A | C6: ='EE_Proyectos A y B'!B3 -> 0 | D6: ='EE_Proyectos A y B'!C3 -> 0 | E6: ='EE_Proyectos A y B'!D3 -> 0
B7: España Emprende - Proyecto B | C7: ='EE_Proyectos A y B'!B4 -> 0 | D7: ='EE_Proyectos A y B'!C4 -> 0 | E7: ='EE_Proyectos A y B'!D4 -> 0
B8: FP Dual en la Empresa | C8: ='FP Dual y Ferias FP'!B3 -> 0 | D8: ='FP Dual y Ferias FP'!C3 -> 0 | E8: ='FP Dual y Ferias FP'!D3 -> 0
B9: Ferias FP Dual | C9: ='FP Dual y Ferias FP'!E11 -> 0 | D9: ='FP Dual y Ferias FP'!F11 -> 0 | E9: ='FP Dual y Ferias FP'!G11 -> 0
B10: Red de Embajadores | C10: ='Red Embajadores'!B4 -> 0 | D10: ='Red Embajadores'!C4 -> 0 | E10: ='Red Embajadores'!D4 -> 0
A11: Total EFESO 2024 | C11: =SUM(C3:C10) -> 0 | D11: =SUM(D3:D10) -> 0 | E11: =SUM(E3:E10) -> 0

Sheet Hoja1
A1: Andalucía | B1: 2496.9
A2: Aragón | B2: 2812.6
A3: Asturias | B3: 2812.6
A4: Canarias | B4: 2611.7
A5: Cantabria | B5: 2755.2
A6: Castilla_La_Mancha | B6: 2525.6
A7: Castilla_y_León | B7: 2611.7
A8: Cataluña | B8: 3128.3
A9: Ceuta | B9: 3070.9
A10: Comunidad_Valenciana | B10: 2611.7
A11: Extremadura | B11: 2410.8
A12: Galicia | B12: 2525.6
... A18: País_Vasco | B18: 3357.9

Sheet 45+
A1: FSE 2021-2027 | B1: 45+
B2: Coste Total | C2: FSE (69,64%) | D2: CCT (30,36%)
A3: Orientación Empleabilidad | B3: =B11*B12 -> 0 | C3: =B3*0.6964 -> 0 | D3: =B3-C3 -> 0
A4: Formación Presencial y Online | B4: =E22 -> 0 | C4: =B4*0.6964 -> 0 | D4: =B4-C4 -> 0
A5: Diagnóstico Reconversión | B5: =C11*C12 -> 0 | C5: =B5*0.6964 -> 0 | D5: =B5-C5 -> 0
A6: Inserción Laboral | B6: =D11*D12 -> 0 | C6: =B6*0.6964 -> 0 | D6: =B6-C6 -> 0
A7: Presupuesto Total | B7: =SUM(B3:B6) -> 0 | C7: =SUM(C3:C6) -> 0 | D7: =B7-C7 -> 0
A9: CALCULADORA 45+
B10: Orientación | C10: Diagnóstico para la reconversión | D10: Ayudas a la contratación
A11: Indicadores
A12: Coste Unitario | B12: 230.75 | C12: 249.98 | D12: 5000
A13: Presupuesto Tramos y Ayudas | B13: =B12*B11 -> 0 | C13: =C12*C11 -> 0 | D13: =D12*D11 -> 0
A15: CALCULADORA FORMACIÓN 45+
A16: Tramo Formación | B16: Nº Horas | C16: Importe | D16: Nº Indicadores | E16: Coste Total | F16: FSE (69,64%) | G16: CCT (30,36%)
A17: Formación Presencial | B17: 30 | C17: =IFERROR(VLOOKUP(RESUMEN!$D$1,Hoja1!$A$1:$B$18,2,FALSE),0) -> 0 | E17: =C17*D17 -> 0 | F17: =E17*0.6964 -> 0 | G17: =E17-F17 -> 0
B18: 60 | C18: =IFERROR(VLOOKUP(RESUMEN!$D$1,Hoja1!$A$1:$B$18,2,FALSE),0) -> 0 | E18: =C18*D18 -> 0 | F18: =E18*0.6964 -> 0 | G18: =E18-F18 -> 0
B19: 90 | C19: =IFERROR(VLOOKUP(RESUMEN!$D$1,Hoja1!$A$1:$B$18,2,FALSE),0) -> 0 | E19: =C19*D19 -> 0 | F19: =E19*0.6964 -> 0 | G19: =E19-F19 -> 0
B20: 120 | C20: =IFERROR(VLOOKUP(RESUMEN!$D$1,Hoja1!$A$1:$B$18,2,FALSE),0) -> 0 | E20: =C20*D20 -> 0 | F20: =E20*0.6964 -> 0 | G20: =E20-F20 -> 0
B21: 150 | C21: =IFERROR(VLOOKUP(RESUMEN!$D$1,Hoja1!$A$1:$B$18,2,FALSE),0) -> 0 | E21: =C21*D21 -> 0 | F21: =E21*0.6964 -> 0 | G21: =E21-F21 -> 0
A22: TOTAL | D22: =SUM(D17:D21) -> 0 | E22: =SUM(E17:E21) -> 0 | F22: =SUM(F17:F21) -> 0 | G22: =SUM(G17:G21) -> 0

Sheet PAEM_Proyectos A y B
A1: FSE 2021-2027 | B1: PAEM | F1: GABINETE - Proyecto A
B2: Coste Total | C2: FSE (69,64%) | D2: CCT (30,36%) | F2: Nº Horas a Imputar por un técnico | G2: Coste/Hora Único + Otros Costes 40%
A3: Gabinete - Proyecto A | B3: =F3*G3 -> 0 | C3: =B3*0.6964 -> 0 | D3: =B3-C3 -> 0 | G3: 38.46
A4: Formación - Proyecto B | B4: =E14 -> 0 | C4: =B4*0.6964 -> 0 | D4: =B4-C4 -> 0
A5: TOTAL | B5: =SUM(B3:B4) -> 0 | C5: =SUM(C3:C4) -> 0 | D5: =SUM(D3:D4) -> 0
A7: CALCULADORA PROYECTO B - PAEM
A8: Tipo Formación | B8: Nº Horas | C8: Importe | D8: Indicadores | E8: Coste Total | F8: FSE (69,64%) | G8: CCT
A9: Formación Presencial | B9: 30 | C9: =IFERROR(VLOOKUP(RESUMEN!$D$1,Hoja1!$A$1:$B$18,2,FALSE),0) -> 0 | E9: =C9*D9 -> 0 | F9: =+E9*0.6964% -> 0 | G9: =+E9-F9 -> 0
B10: 60 | C10: =IFERROR(VLOOKUP(RESUMEN!$D$1,Hoja1!$A$1:$B$18,2,FALSE),0) -> 0 | E10: =C10*D10 -> 0 | F10: =+E10*0.6964% -> 0 | G10: =+E10-F10 -> 0
B11: 90 | C11: =IFERROR(VLOOKUP(RESUMEN!$D$1,Hoja1!$A$1:$B$18,2,FALSE),0) -> 0 | E11: =C11*D11 -> 0 | F11: =+E11*0.6964% -> 0 | G11: =+E11-F11 -> 0
B12: 120 | C12: =IFERROR(VLOOKUP(RESUMEN!$D$1,Hoja1!$A$1:$B$18,2,FALSE),0) -> 0 | E12: =C12*D12 -> 0 | F12: =+E12*0.6964% -> 0 | G12: =+E12-F12 -> 0
B13: 150 | C13: =IFERROR(VLOOKUP(RESUMEN!$D$1,Hoja1!$A$1:$B$18,2,FALSE),0) -> 0 | E13: =C13*D13 -> 0 | F13: =+E13*0.6964% -> 0 | G13: =+E13-F13 -> 0
A14: Total Presupuesto Formación PAEM 2024 | D14: =SUM(D9:D13) -> 0 | E14: =SUM(E9:E13) -> 0 | F14: =SUM(F9:F13) -> 0 | G14: =SUM(G9:G13) -> 0

Sheet EE_Proyectos A y B
A1: FSE 2021-2027 | B1: ESPAÑA EMPRENDE | F1: GABINETE - Proyecto A
B2: Coste Total | C2: FSE (69,64%) | D2: CCT (30,36%) | F2: Nº Horas a Imputar por un técnico | G2: Coste/Hora Único + Otros Costes 40%
A3: Gabinete - Proyecto A | B3: =F3*G3 -> 0 | C3: =B3*0.6964 -> 0 | D3: =B3-C3 -> 0 | F3: 0 | G3: 38.46
A4: Formación - Proyecto B | B4: =E14 -> 0 | C4: =B4*0.6964 -> 0 | D4: =B4-C4 -> 0
A5: TOTAL | B5: =SUM(B3:B4) -> 0 | C5: =SUM(C3:C4) -> 0 | D5: =SUM(D3:D4) -> 0
A7: CALCULADORA PROYECTO B - ESPAÑA EMPRENDE
A8: Tipo Formación | B8: Nº Horas | C8: Importe | D8: Indicadores | E8: Coste Total | F8: FSE (69,64%) | G8: CCT
A9: Formación Presencial | B9: 30 | C9: =IFERROR(VLOOKUP(RESUMEN!$D$1,Hoja1!$A$1:$B$18,2,FALSE),0) -> 0 | E9: =C9*D9 -> 0 | F9: =+E9*69.64% -> 0 | G9: =+E9-F9 -> 0
B10: 60 | C10: =IFERROR(VLOOKUP(RESUMEN!$D$1,Hoja1!$A$1:$B$18,2,FALSE),0) -> 0 | E10: =C10*D10 -> 0 | F10: =+E10*69.64% -> 0 | G10: =+E10-F10 -> 0
B11: 90 | C11: =IFERROR(VLOOKUP(RESUMEN!$D$1,Hoja1!$A$1:$B$18,2,FALSE),0) -> 0 | E11: =C11*D11 -> 0 | F11: =+E11*69.64% -> 0 | G11: =+E11-F11 -> 0
B12: 120 | C12: =IFERROR(VLOOKUP(RESUMEN!$D$1,Hoja1!$A$1:$B$18,2,FALSE),0) -> 0 | E12: =C12*D12 -> 0 | F12: =+E12*69.64% -> 0 | G12: =+E12-F12 -> 0
B13: 150 | C13: =IFERROR(VLOOKUP(RESUMEN!$D$1,Hoja1!$A$1:$B$18,2,FALSE),0) -> 0 | E13: =C13*D13 -> 0 | F13: =+E13*69.64% -> 0 | G13: =+E13-F13 -> 0
A14: Total Presupuesto Formación España Emprende 2024 | D14: =SUM(D9:D13) -> 0 | E14: =SUM(E9:E13) -> 0 | F14: =SUM(F9:F13) -> 0 | G14: =SUM(G9:G13) -> 0

Sheet FP Dual y Ferias FP
A1: FSE 2021-2027 | B1: FP DUAL EN LA EMPRESA | F1: GABINETE
B2: Coste Total | C2: FSE (69,64%) | D2: CCT (30,36%) | F2: Nº Horas a Imputar por un técnico | G2: Coste/Hora Único + Otros Costes 40%
A3: Gabinete FP Dual | B3: =F3*G3 -> 0 | C3: =B3*0.6964 -> 0 | D3: =B3-C3 -> 0 | G3: 38.46
A4: TOTAL | B4: =SUM(B3:B3) -> 0 | C4: =SUM(C3:C3) -> 0 | D4: =SUM(D3:D3) -> 0
B6: FERIAS FP Dual
B7: Presupuesto por Tipo de Feria | C7: Nº Empresas Asesoradas por Tipo de Feria | D7: Insertar Nº de Ferias según tipo (máximo 6) | E7: Coste Total | F7: FSE (69,64%) | G7: CCT (30,36%)
A8: Feria FP – Tipo A | B8: 60000 | C8: 60 | E8: =B8*D8 -> 0 | F8: =E8*0.6964 -> 0 | G8: =E8-F8 -> 0
A9: Feria FP – Tipo B | B9: 40000 | C9: 40 | E9: =B9*D9 -> 0 | F9: =E9*0.6964 -> 0 | G9: =E9-F9 -> 0
A10: Feria FP – Tipo C | B10: 20000 | C10: 20 | E10: =B10*D10 -> 0 | F10: =E10*0.6964 -> 0 | G10: =E10-F10 -> 0
A11: TOTAL | D11: =SUM(D8:D10) -> 0 | E11: =SUM(E8:E10) -> 0 | F11: =SUM(F8:F10) -> 0 | G11: =SUM(G8:G10) -> 0
D12: Nº máximo de Ferias FP = 6

Sheet Red Embajadores
A1: FSE 2021-2027 | B1: SOMOS FP DUAL | F1: GABINETE
B2: Coste Total | C2: FSE (69,64%) | D2: CCT (30,36%) | F2: Nº Horas a Imputar por un técnico | G2: Coste/Hora Único + Otros Costes 40%
A3: Gabinete Red Embajadores | B3: =F3*G3 -> 0 | C3: =B3*0.6964 -> 0 | D3: =B3-C3 -> 0 | G3: 38.46
A4: TOTAL | B4: =SUM(B3:B3) -> 0 | C4: =SUM(C3:C3) -> 0 | D4: =SUM(D3:D3) -> 0
