Workbook

Sheet Leyenda
A1: PROGRAMA OPERATIVO | B1: PROGRAMA | C1: PERÍODO DE PROGRAMACIÓN | D1: OBSERVACIONES
A2: Observaciones Generales | D2: · Cumplimentar únicamente celdas en amarillo. · Se contempla la ejecución desde 1 de enero de 2023. · Estructura de Costes Simplificados pendiente de validación formal de IGAE.
A3: EFESO | B3: 45+ | C3: 2021-2027 | D3: · Se alinea la estructura de los módulos horarios de las acciones formativas al resto de programas. · Mantenimiento de los costes/hora del período 2014-2020.
B4: PAEM - Proyecto A | C4: 2021-2027 | D4: Dedicación real del técnico con coste/hora fijo: 38,46 € * nº de horas dedicadas
B5: PAEM - Proyecto B | C5: 2021-2027 | D5: · Se alinea la estructura de los módulos horarios de las acciones formativas al resto de programas. · Mantenimiento de los costes/hora del período 2014-2020. · Se contempla la posibilidad de una segunda formación bajo supuestos concretos.
B6: España Emprende - Proyecto A | C6: 2021-2027 | D6: Dedicación real del técnico con coste/hora fijo: 38,46 € * nº de horas dedicadas
B7: España Emprende - Proyecto B | C7: 2021-2027 | D7: · Se alinea la estructura de los módulos horarios de las acciones formativas al resto de programas. · Mantenimiento de los costes/hora del período 2014-2020. · Se contempla la posibilidad de una segunda formación bajo supuestos concretos.
B8: FP Dual en la Empresa | C8: 2021-2027 | D8: Dedicación real del técnico con coste/hora fijo: 38,46 € * nº de horas dedicadas
B9: Ferias FP Dual | C9: 2021-2027 | D9: · Ferias formuladas en base a "proyecto de presupuesto", metodología puesta en marcha en el 2º semestre de 2021. · Mismas condiciones que actualmente, con un máximo de tres ferias por anualidad.
B10: Red de Embajadores | C10: 2021-2027 | D10: Dedicación real del técnico con coste/hora fijo: 38,46 € * nº de horas dedicadas

Sheet RESUMEN
A1: EFESO 2023
B2: Programa | C2: Coste Total | D2: Ayuda FSE | E2: CCT
A3: EFESO | B3: 45+ | C3: ='45+'!B7 -> 0 | D3: ='45+'!C7 -> 0 | E3: ='45+'!D7 -> 0
B4: PAEM - Proyecto A | C4: ='PAEM_Proyectos A y B'!B3 -> 0 | D4: ='PAEM_Proyectos A y B'!C3 -> 0 | E4: ='PAEM_Proyectos A y B'!D3 -> 0
B5: PAEM - Proyecto B | C5: ='PAEM_Proyectos A y B'!B4 -> 0 | D5: ='PAEM_Proyectos A y B'!C4 -> 0 | E5: ='PAEM_Proyectos A y B'!D4 -> 0
B6: España Emprende - Proyecto A | C6: ='EE_Proyectos A y B'!B3 -> 0 | D6: ='EE_Proyectos A y B'!C3 -> 0 | E6: ='EE_Proyectos A y B'!D3 -> 0
B7: España Emprende - Proyecto B | C7: ='EE_Proyectos A y B'!B4 -> 0 | D7: ='EE_Proyectos A y B'!C4 -> 0 | E7: ='EE_Proyectos A y B'!D4 -> 0
B8: FP Dual en la Empresa | C8: ='FP Dual y Ferias FP'!B3 -> 0 | D8: ='FP Dual y Ferias FP'!C3 -> 0 | E8: ='FP Dual y Ferias FP'!D3 -> 0
B9: Ferias FP Dual | C9: ='FP Dual y Ferias FP'!B9 -> 0 | D9: ='FP Dual y Ferias FP'!C9 -> 0 | E9: ='FP Dual y Ferias FP'!D9 -> 0
B10: Red de Embajadores | C10: ='Somos FP Dual'!B4 -> 0 | D10: ='Somos FP Dual'!C4 -> 0 | E10: ='Somos FP Dual'!D4 -> 0
A11: Total EFESO 2023 | C11: =SUM(C3:C10) -> 0 | D11: =SUM(D3:D10) -> 0 | E11: =SUM(E3:E10) -> 0

Sheet 45+
A1: FSE 2021-2027 | B1: 45+
B2: Coste Total | C2: FSE (69,64%) | D2: CCT
A3: Orientación Empleabilidad | B3: =B12*B13 -> 0 | C3: =B3*0.6964 -> 0 | D3: =B3-C3 -> 0
A4: Formación Presencial y Online | B4: =E28 -> 0 | C4: =B4*0.6964 -> 0 | D4: =B4-C4 -> 0
A5: Diagnóstico Reconversión | B5: =C12*C13 -> 0 | C5: =B5*0.6964 -> 0 | D5: =B5-C5 -> 0
A6: Inserción Laboral | B6: =D12*D13 -> 0 | C6: =B6*0.6964 -> 0 | D6: =B6-C6 -> 0
A7: Presupuesto Total | B7: =SUM(B3:B6) -> 0 | C7: =SUM(C3:C6) -> 0 | D7: =B7-C7 -> 0
A10: CALCULADORA 45+
B11: Orientación | C11: Diagnóstico para la reconversión | D11: Ayudas a la contratación
A12: Indicadores
A13: Coste Unitario | B13: 230.75 | C13: 249.98 | D13: 5000
A14: Presupuesto Tramos y Ayudas | B14: =B13*B12 -> 0 | C14: =C13*C12 -> 0 | D14: =D13*D12 -> 0
A16: CALCULADORA FORMACIÓN 45+
A17: Tramo Formación | B17: Nº Horas | C17: Importe | D17: Nº Indicadores | E17: Coste Total | F17: FSE (69,64%) | G17: CCT
A18: Formación Presencial | B18: 30 | C18: 272.4 | E18: =C18*D18 -> 0 | F18: =E18*0.6964 -> 0 | G18: =E18-F18 -> 0
B19: 60 | C19: 544.8 | E19: =C19*D19 -> 0 | F19: =E19*0.6964 -> 0 | G19: =E19-F19 -> 0
B20: 90 | C20: 817.2 | E20: =C20*D20 -> 0 | F20: =E20*0.6964 -> 0 | G20: =E20-F20 -> 0
B21: 120 | C21: 1089.6 | E21: =C21*D21 -> 0 | F21: =E21*0.6964 -> 0 | G21: =E21-F21 -> 0
B22: 150 | C22: 1362 | E22: =C22*D22 -> 0 | F22: =E22*0.6964 -> 0 | G22: =E22-F22 -> 0
A23: Formación Online | B23: 50 | C23: 247.5 | E23: =C23*D23 -> 0 | F23: =E23*0.6964 -> 0 | G23: =E23-F23 -> 0
B24: 100 | C24: 495 | E24: =C24*D24 -> 0 | F24: =E24*0.6964 -> 0 | G24: =E24-F24 -> 0
B25: 150 | C25: 742.5 | E25: =C25*D25 -> 0 | F25: =E25*0.6964 -> 0 | G25: =E25-F25 -> 0
B26: 200 | C26: 990 | E26: =C26*D26 -> 0 | F26: =E26*0.6964 -> 0 | G26: =E26-F26 -> 0
B27: 250 | C27: 1237.5 | E27: =C27*D27 -> 0 | F27: =E27*0.6964 -> 0 | G27: =E27-F27 -> 0
A28: TOTAL | D28: =SUM(D18:D27) -> 0 | E28: =SUM(E18:E27) -> 0 | F28: =SUM(F18:F27) -> 0 | G28: =SUM(G18:G27) -> 0

Sheet PAEM_Proyectos A y B
A1: FSE 2021-2027 | B1: PAEM | F1: GABINETE - Proyecto A
B2: Coste Total | C2: FSE (69,64%) | D2: CCT | F2: Nº Horas a Imputar por un técnico | G2: Coste/Hora Único + Otros Costes 40%
A3: Gabinete - Proyecto A | B3: =F3*G3 -> 0 | C3: =B3*0.6964 -> 0 | D3: =B3-C3 -> 0 | G3: 38.46
A4: Formación - Proyecto B | B4: =E19 -> 0 | C4: =B4*0.6964 -> 0 | D4: =B4-C4 -> 0
A5: TOTAL | B5: =SUM(B3:B4) -> 0 | C5: =SUM(C3:C4) -> 0 | D5: =SUM(D3:D4) -> 0
A7: CALCULADORA PROYECTO B - PAEM
A8: Tipo Formación | B8: Nº Horas | C8: Importe | D8: Indicadores | E8: Coste Total | F8: FSE (69,64%) | G8: CCT
A9: Formación Presencial | B9: 30 | C9: =9.08*30 -> 272.4 | E9: =C9*D9 -> 0 | F9: =+E9*0.6964% -> 0 | G9: =+E9-F9 -> 0
B10: 60 | C10: =9.08*60 -> 544.8 | E10: =C10*D10 -> 0 | F10: =+E10*0.6964% -> 0 | G10: =+E10-F10 -> 0
B11: 90 | C11: =9.08*90 -> 817.2 | E11: =C11*D11 -> 0 | F11: =+E11*0.6964% -> 0 | G11: =+E11-F11 -> 0
B12: 120 | C12: =120*9.08 -> 1089.6 | E12: =C12*D12 -> 0 | F12: =+E12*0.6964% -> 0 | G12: =+E12-F12 -> 0
B13: 150 | C13: =150*9.08 -> 1362 | E13: =C13*D13 -> 0 | F13: =+E13*0.6964% -> 0 | G13: =+E13-F13 -> 0
A14: Formación Online | B14: 50 | C14: =50*4.95 -> 247.5 | E14: =C14*D14 -> 0 | F14: =+E14*0.6964% -> 0 | G14: =+E14-F14 -> 0
B15: 100 | C15: =100*4.95 -> 495 | E15: =C15*D15 -> 0 | F15: =+E15*0.6964% -> 0 | G15: =+E15-F15 -> 0
B16: 150 | C16: =150*4.95 -> 742.5 | E16: =C16*D16 -> 0 | F16: =+E16*0.6964% -> 0 | G16: =+E16-F16 -> 0
B17: 200 | C17: =200*4.95 -> 990 | E17: =C17*D17 -> 0 | F17: =+E17*0.6964% -> 0 | G17: =+E17-F17 -> 0
B18: 250 | C18: =250*4.95 -> 1237.5 | E18: =C18*D18 -> 0 | F18: =+E18*0.6964% -> 0 | G18: =+E18-F18 -> 0
A19: Total Presupuesto Formación PAEM 2023 | D19: =SUM(D9:D18) -> 0 | E19: =SUM(E9:E18) -> 0 | F19: =SUM(F9:F18) -> 0 | G19: =SUM(G9:G18) -> 0

Sheet EE_Proyectos A y B
A1: FSE 2021-2027 | B1: ESPAÑA EMPRENDE | F1: GABINETE - Proyecto A
B2: Coste Total | C2: FSE (69,64%) | D2: CCT | F2: Nº Horas a Imputar por un técnico | G2: Coste/Hora Único + Otros Costes 40%
A3: Gabinete - Proyecto A | B3: =F3*G3 -> 0 | C3: =B3*0.6964 -> 0 | D3: =B3-C3 -> 0 | F3: 0 | G3: 38.46
A4: Formación - Proyecto B | B4: =E19 -> 0 | C4: =B4*0.6964 -> 0 | D4: =B4-C4 -> 0
A5: TOTAL | B5: =SUM(B3:B4) -> 0 | C5: =SUM(C3:C4) -> 0 | D5: =SUM(D3:D4) -> 0
A7: CALCULADORA PROYECTO B - ESPAÑA EMPRENDE
A8: Tipo Formación | B8: Nº Horas | C8: Importe | D8: Indicadores | E8: Coste Total | F8: FSE (69,64%) | G8: CCT
A9: Formación Presencial | B9: 30 | C9: =9.08*30 -> 272.4 | E9: =C9*D9 -> 0 | F9: =+E9*69.64% -> 0 | G9: =+E9-F9 -> 0
B10: 60 | C10: =9.08*60 -> 544.8 | E10: =C10*D10 -> 0 | F10: =+E10*69.64% -> 0 | G10: =+E10-F10 -> 0
B11: 90 | C11: =9.08*90 -> 817.2 | E11: =C11*D11 -> 0 | F11: =+E11*69.64% -> 0 | G11: =+E11-F11 -> 0
B12: 120 | C12: =120*9.08 -> 1089.6 | E12: =C12*D12 -> 0 | F12: =+E12*69.64% -> 0 | G12: =+E12-F12 -> 0
B13: 150 | C13: =150*9.08 -> 1362 | E13: =C13*D13 -> 0 | F13: =+E13*69.64% -> 0 | G13: =+E13-F13 -> 0
A14: Formación Online | B14: 50 | C14: =50*4.95 -> 247.5 | E14: =C14*D14 -> 0 | F14: =+E14*69.64% -> 0 | G14: =+E14-F14 -> 0
B15: 100 | C15: =100*4.95 -> 495 | E15: =C15*D15 -> 0 | F15: =+E15*69.64% -> 0 | G15: =+E15-F15 -> 0
B16: 150 | C16: =150*4.95 -> 742.5 | E16: =C16*D16 -> 0 | F16: =+E16*69.64% -> 0 | G16: =+E16-F16 -> 0
B17: 200 | C17: =200*4.95 -> 990 | E17: =C17*D17 -> 0 | F17: =+E17*69.64% -> 0 | G17: =+E17-F17 -> 0
B18: 250 | C18: =250*4.95 -> 1237.5 | E18: =C18*D18 -> 0 | F18: =+E18*69.64% -> 0 | G18: =+E18-F18 -> 0
A19: Total Presupuesto Formación España Emprende 2023 | D19: =SUM(D9:D18) -> 0 | E19: =SUM(E9:E18) -> 0 | F19: =SUM(F9:F18) -> 0 | G19: =SUM(G9:G18) -> 0

Sheet FP Dual y Ferias FP
A1: FSE 2021-2027 | B1: FP DUAL EN LA EMPRESA | F1: GABINETE
B2: Coste Total | C2: FSE (69,64%) | D2: CCT | F2: Nº Horas a Imputar por un técnico | G2: Coste/Hora Único + Otros Costes 40%
A3: Gabinete FP Dual | B3: =F3*G3 -> 0 | C3: =B3*0.6964 -> 0 | D3: =B3-C3 -> 0 | G3: 38.46
A4: TOTAL | B4: =SUM(B3:B3) -> 0 | C4: =SUM(C3:C3) -> 0 | D4: =SUM(D3:D3) -> 0
B6: FERIAS FP Dual
B7: Coste Total | C7: FSE (69,64%) | D7: CCT
A8: Ferias FP Dual | B8: =40000*C10 -> 0 | C8: =B8*0.6964 -> 0 | D8: =B8-C8 -> 0
A9: TOTAL | B9: =SUM(B8:B8) -> 0 | C9: =SUM(C8:C8) -> 0 | D9: =SUM(D8:D8) -> 0
A10: Insertar número de Ferias 2023 --->
C11: Máximo 4 Ferias

Sheet Somos FP Dual
A1: FSE 2021-2027 | B1: RED DE EMBAJADORES - SOMOS FP DUAL | F1: GABINETE
B2: Coste Total | C2: FSE (69,64%) | D2: CCT | F2: Nº Horas a Imputar por un técnico | G2: Coste/Hora Único + Otros Costes 40%
A3: Gabinete Red Embajadores | B3: =F3*G3 -> 0 | C3: =B3*0.6964 -> 0 | D3: =B3-C3 -> 0 | G3: 38.46
A4: TOTAL | B4: =SUM(B3:B3) -> 0 | C4: =SUM(C3:C3) -> 0 | D4: =SUM(D3:D3) -> 0
